BEGIN:VCALENDAR
VERSION:2.0
PRODID:-//Tukios.com/
BEGIN:VEVENT
UID:0a262a0a-4be7-4e6d-9d4c-fc674c76f12b@www.krishfuneralhome.com
DTSTAMP:20260424T224715Z
DTSTART:20260429T180000Z
DTEND:20260429T200000Z
SUMMARY:Visitation
DESCRIPTION:
URL:https://www.krishfuneralhome.com/obituaries/charles-bossler
LOCATION:Stanley J. Krish Funeral Home, Inc. 1204 17th Street  Altoona PA 
	16601
GEO:40.5133703;-78.4075487
END:VEVENT
END:VCALENDAR