BEGIN:VCALENDAR
VERSION:2.0
PRODID:-//Tukios.com/
BEGIN:VEVENT
UID:4e8c59a7-438f-421e-babe-dbe71a9ca723@www.krishfuneralhome.com
DTSTAMP:20260424T224838Z
DTSTART:20260429T200000Z
DTEND:20260429T210000Z
SUMMARY:Funeral Service
DESCRIPTION:
URL:https://www.krishfuneralhome.com/obituaries/charles-bossler
LOCATION:Stanley J. Krish Funeral Home, Inc. 1204 17th Street  Altoona PA 
	16601
GEO:40.5133703;-78.4075487
END:VEVENT
END:VCALENDAR