BEGIN:VCALENDAR
VERSION:2.0
PRODID:-//Tukios.com/
BEGIN:VEVENT
UID:0727577d-e43a-4fa6-ab86-f89a8aa0cc8b@www.krishfuneralhome.com
DTSTAMP:20260424T203300Z
DTSTART:20260426T220000Z
DTEND:20260427T000000Z
SUMMARY:Viewing
DESCRIPTION:
URL:https://www.krishfuneralhome.com/obituaries/louis-stahl
LOCATION:Stanley J. Krish Funeral Home, Inc. 1204 17th Street  Altoona PA 
	16601
GEO:40.5133703;-78.4075487
END:VEVENT
END:VCALENDAR