BEGIN:VCALENDAR
VERSION:2.0
PRODID:-//Tukios.com/
BEGIN:VEVENT
UID:57d0a93e-ee37-40b0-8f8f-1d081209ed2f@www.krishfuneralhome.com
DTSTAMP:20260424T203023Z
DTSTART:20260427T140000Z
DTEND:20260427T150000Z
SUMMARY:Viewing
DESCRIPTION:
URL:https://www.krishfuneralhome.com/obituaries/louis-stahl
LOCATION:First Church of God 3007 Union Avenue  Altoona PA 16602
GEO:40.4934744;-78.4057086
END:VEVENT
END:VCALENDAR